BEGIN:VCALENDAR
VERSION:2.0
PRODID:-//EMC Austria (Elektro Mobilitäts Club) - ECPv6.0.12//NONSGML v1.0//EN
CALSCALE:GREGORIAN
METHOD:PUBLISH
X-ORIGINAL-URL:https://www.emcaustria.at
X-WR-CALDESC:Veranstaltungen für EMC Austria (Elektro Mobilitäts Club)
REFRESH-INTERVAL;VALUE=DURATION:PT1H
X-Robots-Tag:noindex
X-PUBLISHED-TTL:PT1H
BEGIN:VTIMEZONE
TZID:Europe/Vienna
BEGIN:DAYLIGHT
TZOFFSETFROM:+0100
TZOFFSETTO:+0200
TZNAME:CEST
DTSTART:20260329T010000
END:DAYLIGHT
BEGIN:STANDARD
TZOFFSETFROM:+0200
TZOFFSETTO:+0100
TZNAME:CET
DTSTART:20261025T010000
END:STANDARD
BEGIN:DAYLIGHT
TZOFFSETFROM:+0100
TZOFFSETTO:+0200
TZNAME:CEST
DTSTART:20270328T010000
END:DAYLIGHT
BEGIN:STANDARD
TZOFFSETFROM:+0200
TZOFFSETTO:+0100
TZNAME:CET
DTSTART:20271031T010000
END:STANDARD
END:VTIMEZONE
BEGIN:VEVENT
DTSTART;TZID=Europe/Vienna:20260424T183000
DTEND;TZID=Europe/Vienna:20260424T200000
DTSTAMP:20260422T173735
CREATED:20260406T180615Z
LAST-MODIFIED:20260408T045520Z
UID:10001010-1777055400-1777060800@www.emcaustria.at
SUMMARY:E-Mobilität im Wandel – Von der Nische zum Standard
DESCRIPTION:Vortragsinhalt: \nDie Elektromobilität hat in den letzten zehn Jahren eine rasante Transformation durchlaufen. Was einst als technologisches Experiment begann\, prägt heute weltweit das Straßenbild. Dieser Vortrag bietet einen Überblick der Entwicklungen vom Jahr 2015 bis heute\, gibt wertvolle Tipps für Neueinsteiger und wirft einen Blick in die Zukunft der Mobilität. \nDie Schwerpunkte des Vortrags: \n\nTechnologische Meilensteine: Wir beleuchten die Evolution der Ladetechnik\, Speichertechnologien und Elektromotoren.\nStatus Quo 2025: Erfahren Sie\, was heute beim Stand der Technik in Bezug auf Reichweite und Ladezeiten wirklich möglich ist und wohin die Entwicklungen gehen.\nStärken & Schwächen: Eine objektive Gegenüberstellung der Vorteile (CO2-Bilanz\, Unterhaltskosten\, Fahrkomfort) und der aktuellen Herausforderungen (Rohstoffe\, Infrastruktur\, Anschaffungspreise\, Ladesituation).\nZukunftsvisionen: Welche Innovationen werden in den kommenden Jahren tatsächlich den Markt erreichen und welche Trends stellen sich als Sackgasse heraus?\nÖsterreich im Fokus: Wo steht Österreich im internationalen und europäischen Vergleich? Wir analysieren den Ausbau der Infrastruktur und die Zulassungsstatistiken im Kontext der globalen Märkte.\nPraxis-Check für Zuhause: Wie bereite ich mich privat optimal vor? Erhalten Sie wertvolle Tipps\, u.a. zur Kombination von Photovoltaik-Anlagen und Wallboxen. Wir besprechen die Grundlagen der Dimensionierung\, um die optimale Ausrüstung für Ihren individuellen Bedarf zu errechnen.\n\nZielgruppe: \nDieser Vortrag richtet sich an Technikinteressierte\, angehende E-Auto-Besitzer und alle\, die eine fundierte Entscheidungshilfe für die Mobilität von morgen suchen. \nOrganisation: Volkshochschule Stockerau\, Volksbildungsverein\, Kurs 17\nKosten: 10€ \nAnmeldung: office@vbv-stockerau.at \,  Tel: 0681 81458312\nhttps://vbvstockerau.vhs-noe.at/Kurse/Details/?course=307086
URL:https://www.emcaustria.at/event/emobility-kompetenztreffen-plus-stockerauer-solarstammtisch-14/
LOCATION:Neue Informatik Mittelschule\, Schulweg 1\, Stockerau\, Niederösterreich\, 2000\, Austria
CATEGORIES:Empfehlung
ATTACH;FMTTYPE=image/jpeg:https://www.emcaustria.at/wp-content/uploads/2026/04/WhatsApp-Image-2026-04-02-at-14.04.11.jpeg
ORGANIZER;CN="EMC%20-%20ElektroMobilit%C3%A4tsClub%20%C3%96sterreich":MAILTO:info@emcaustria.at
END:VEVENT
BEGIN:VEVENT
DTSTART;TZID=Europe/Vienna:20260506T170000
DTEND;TZID=Europe/Vienna:20260506T170000
DTSTAMP:20260422T173735
CREATED:20260302T103748Z
LAST-MODIFIED:20260421T050437Z
UID:10001006-1778086800-1778086800@www.emcaustria.at
SUMMARY:eMobility Kompetenztreffen plus Stockerauer Solarstammtisch
DESCRIPTION:Zum Treffen sind alle E-Mobilisten und alle\, die es noch werden möchten\, eingeladen. In den stattfindenden Kompetenztreffen werden aktuelle und wichtige Themen besprochen und diese dienen zugleich als Plattform zum Austausch von Informationen\, Innovationen und Neuigkeiten aus dem Bereich der Elektromobilität. \n  \n\nab 17 Uhr eFahrzeug Besichtigung\n\nXpeng\, Leapmotor\, E- Terros von KGM mit bis zu einer Million Km Akkugarantie uvm.\n\n\nab 18.00 Uhr Vortrag zum Themen: Energieautarkie\,.. Möglichkeiten\, Chancen\,\n\nReferentin Christine Scharinger\n\n\nVorstellung: Moon Power Bidi Wallbox\, Live- Demo & Testmöglichkeiten von Bidirektionalen Laden\n\nDipl.- Ing. Andreas Schöfegger MSc\n\n\nNetworking
URL:https://www.emcaustria.at/event/emobility-kompetenztreffen-plus-stockerauer-solarstammtisch-12/
LOCATION:Kaiserrast – Stockerau Aurast GmbH\, Donaukraftwerkstraße 1\, Stockerau\, Niederösterreich\, 2000
ORGANIZER;CN="EMC%20-%20ElektroMobilit%C3%A4tsClub%20%C3%96sterreich":MAILTO:info@emcaustria.at
GEO:48.3745485;16.2373554
X-APPLE-STRUCTURED-LOCATION;VALUE=URI;X-ADDRESS=Kaiserrast – Stockerau Aurast GmbH Donaukraftwerkstraße 1 Stockerau Niederösterreich 2000;X-APPLE-RADIUS=500;X-TITLE=Donaukraftwerkstraße 1:geo:16.2373554,48.3745485
END:VEVENT
BEGIN:VEVENT
DTSTART;TZID=Europe/Vienna:20260529T110000
DTEND;TZID=Europe/Vienna:20260530T190000
DTSTAMP:20260422T173735
CREATED:20260420T111708Z
LAST-MODIFIED:20260420T112007Z
UID:10001012-1780052400-1780167600@www.emcaustria.at
SUMMARY:6. Wiener Elektro Tage von 29. bis 31. Mai 2026
DESCRIPTION:24 Aussteller und über 60 präsentierte Modelle zeigen das ganze Spektrum der elektrifizierten Mobilität von morgen \n\nBei den von 29. bis 31. Mai am Wiener Rathausplatz stattfindenden Wiener Elektro Tage bieten mit 23 Austellern einen perfekten Überblick des aktuellen Angebots\nÜber 60 batterieelektrische wie auch Plug-in Hybrid-Fahrzeuge – darunter mehrere Österreich-Premieren – untermauern den Stellenwert des größten\, heimischen E-Mobility-Events\nGemeinsam mit Ausstellern aus den Bereichen Ladeinfrastruktur und Serviceleistungen wartet bei freiem Eintritt erneut einen einmaliger Mix aus Information\, Beratung und Unterhaltung.\n\nDas im vergangenen Jahr erweiterte Konzept der Wiener Elektro Tage\, auf neuen\, offener gestalteten Ständen neben rein Batterie-elektrischen Fahrzeugen auch Plug-in Hybride ins Scheinwerferlicht zu rücken\, kam bei Partnern wie Besuchern erstklassig an. 2026 wird diese neue Ausrichtung folgerichtig nicht bloß beibehalten\, sondern ausgebaut. Besucherinnen und Besucher können sich so auf noch mehr ausgestellte Fahrzeuge von 19 Herstellern einstellen\, die die immer breiter werdende Bandbreite nachhaltiger Mobilität perfekt abdecken.  \nLeistbare Stadtflitzer\, geräumige Familientransporter\, luxuriöse Langstreckenmeister oder hoch-emotionale Sportler; E-Mobilität wird durch immer neue Modelle\, aber auch gleich gänzlich neue Anbieter – vor allem aus Fernost – gefühlt täglich facettenreicher. Ein Umstand\, der auch beim Blick auf das 2026 bei den Wiener Elektro Tagen angesagte Aufgebot an Ausstellern deutlich wird. 23 haben sich bis dato angekündigt und bieten mit ihren insgesamt über 60 ausgestellten Modellen für jeden Geschmack das passende Auto. Aber auch „drumherum“ bleiben mit Partnern aus den Bereichen Finanzierung\, Infrastruktur oder Service keine Wünsche offen. \n19 Automarken\, über 50 Prozent des Marktes\nInsgesamt 19 Automarken haben bislang ihre Teilnahme bestätigt. Hier in alphabetischer Reihenfolge: Audi\, Citroën\, Cupra\, DS Automobiles\, Fiat\, Ford\, Jeep\, Leapmotor\, Mazda\, Mercedes Vans\, Opel\, Peugeot\, Polestar\, Porsche\, Renault\, Škoda\, Volkswagen\, Volkswagen Nutzfahrzeuge und Xpeng. Zusammen bilden sie einen perfekten Querschnitt durch den österreichischen Automarkt; bedienen alle Segmente und verantworten mehr als die Hälfte des bisherigen Neuzulassungsvolumens 2026. Darüber hinaus vertreten sind Moon Power\, AutoScout24\, ÖAMTC\, Porsche Bank und Wien Energie. \nThomas Beran\, Geschäftsführer der Porsche Media & Creative und Veranstalter der Wiener Elektro Tage: „Die erfolgreiche Mobilitätswende kann nur gemeinsam gelingen. Die Wiener Elektro Tage bieten für alle Hersteller und Marken eine offene und starke Plattform\, um den Fortschritt der Elektromobilität einem breiten Publikum zugänglich zu machen. Wir freuen uns ungemein\, dass die Vielfalt und Anzahl der auch dieses Jahr teilnehmenden Unternehmen uns aufs Neue in dieser Überzeugung bestätigt.“\nDie Besucherinnen und Besucher können sich bei den Wiener Elektro Tagen 2026 zudem auf ein umfangreiches Programm für die ganze Familie\, vielfältige Kulinarik und zahlreiche nachhaltige Schmankerl freuen\, die das Angebot vor Ort abrunden. \nÖffnungszeiten Wiener Elektro Tage 2026 \nFreitag\, 29. Mai und Samstag\, 30. Mai 2026: Ausstellungszeiten: 11:00 – 19:00 Uhr\nMusic-Acts: 19:00 Uhr – 21:00 Uhr \nSonntag\, 31. Mai 2026: Ausstellungszeiten und Music-Acts: 11:00 Uhr – 18:00 Uhr
URL:https://www.emcaustria.at/event/6-wiener-elektro-tage-von-29-bis-31-mai-2026/
LOCATION:Rathausplatz Wien\, Rathausplatz\, Wien\, Wien\, 1010\, Austria
CATEGORIES:Empfehlung
ATTACH;FMTTYPE=image/jpeg:https://www.emcaustria.at/wp-content/uploads/2026/04/WET_MA_SUjet_26_1920x1080px-1.jpg
END:VEVENT
BEGIN:VEVENT
DTSTART;TZID=Europe/Vienna:20260603T170000
DTEND;TZID=Europe/Vienna:20260603T170000
DTSTAMP:20260422T173735
CREATED:20260302T104017Z
LAST-MODIFIED:20260302T104041Z
UID:10001007-1780506000-1780506000@www.emcaustria.at
SUMMARY:eMobility Kompetenztreffen plus Stockerauer Solarstammtisch
DESCRIPTION:Zum Treffen sind alle E-Mobilisten und alle\, die es noch werden möchten\, eingeladen. In den stattfindenden Kompetenztreffen werden aktuelle und wichtige Themen besprochen und diese dienen zugleich als Plattform zum Austausch von Informationen\, Innovationen und Neuigkeiten aus dem Bereich der Elektromobilität. \n\nab 17 Uhr eFahrzeug Besichtigung\nab 18.00 Uhr Vortrag zum Themen: E Auto Laden im Mehrparteien Wohnblock bereits möglich?\n\nReferent Gerhard Wimmer\n\n\nNetworking
URL:https://www.emcaustria.at/event/emobility-kompetenztreffen-plus-stockerauer-solarstammtisch-13/
LOCATION:Kaiserrast – Stockerau Aurast GmbH\, Donaukraftwerkstraße 1\, Stockerau\, Niederösterreich\, 2000
CATEGORIES:Kompetenztreffen
ORGANIZER;CN="EMC%20-%20ElektroMobilit%C3%A4tsClub%20%C3%96sterreich":MAILTO:info@emcaustria.at
GEO:48.3745485;16.2373554
X-APPLE-STRUCTURED-LOCATION;VALUE=URI;X-ADDRESS=Kaiserrast – Stockerau Aurast GmbH Donaukraftwerkstraße 1 Stockerau Niederösterreich 2000;X-APPLE-RADIUS=500;X-TITLE=Donaukraftwerkstraße 1:geo:16.2373554,48.3745485
END:VEVENT
BEGIN:VEVENT
DTSTART;TZID=Europe/Vienna:20260604T090000
DTEND;TZID=Europe/Vienna:20260607T170000
DTSTAMP:20260422T173735
CREATED:20260416T050554Z
LAST-MODIFIED:20260419T173123Z
UID:10001011-1780563600-1780851600@www.emcaustria.at
SUMMARY:BIOEM von 04. – 07. Juni 2026 in Großschönau
DESCRIPTION:BAUEN. ENERGIE. LEBEN.\nVom 4. bis 7. Juni 2026 wird Großschönau wieder zum Zentrum für Innovation\, Nachhaltigkeit und Zukunftstechnologien: Die 39. BIOEM lädt Unternehmen\, Organisationen und Initiativen ein\, ihre Produkte\, Dienstleistungen und Ideen einem interessierten Publikum zu präsentieren. \nEs erwarten Sie rund 200 zukunftsorientierte Aussteller:innen mit innovativen Produkte\, Dienstleistungen & Ideen zu aktuellen Themen wie E-Mobilität\, energieeffizientes\, ökologisches Bauen\, Sanieren & Wohnen\, erneuerbare Stromgewinnung und Speicherung\, uvm. – und das auf 7.500 m² Hallenfläche und 6.000 m² Freigelände – sowie kompetente\, fachkundige Beratung und Information\, informative Fachvorträge und ein unterhaltsames\, attraktives Rahmenprogramm für Groß und Klein. \nAm 5. Juni 2026 könnt ihr mit Vorweisen der EMC Mitgliedskarte ab 15 Uhr gratis die Messe besuchen! Ab 17 Uhr\, wenn die Messe ihre Türen schließt\, treffen wir uns auf einen After-Messe-Trink im Sonnentorgebäude zum gemütlichen Beisammensein\, Netzwerken und das Neueste seitens des EMC zu erfahren! Die Ausstellung bei Sonnentor selbst hat an diesem verlängerten Wochenende auch seine Pforten geöffnet! \nGeboten werden außerdem hochkarätige Vorträge und ein unterhaltsames Rahmenprogramm für Jung und Alt. \nHighlights 2026\n\nSonderthema: Generationengerechtes Bauen & Sanieren\nFokus auf regionale Energiesicherheit\nKlimafitter Wald 2.0\nKooperation mit Viva la Soul – Themenwelt für Bewusstsein\, Spiritualität\, Gesundheit\, Energetik\, Kreativität & Neue Erde\n\nFür EMC Mitglieder ermäßigt!Für EMC Mitglieder gilt für Freitag 05. Juni ab 15 Uhr mit deiner EMC Clubkarte ein gratis Eintritt. Generell mit Eintrittsgutschein erhältst du einen ermäßigten Eintritt für die Dauer der Messe.\n Eintrittsgutschein_2026.rz \nÖffnungszeiten \nDonnerstag: 09.00 bis 18.00 Uhr\nFreitag\, Samstag: 10.00 bis 17.00 Uhr\nSonntag: 10.00 bis 16.00 Uhr
URL:https://www.emcaustria.at/event/bioem-von-04-07-juni-2026-in-grossschoenau/
LOCATION:BioM\, Sonnenplatz 1\, Großschönau\, Niederösterreich\, 3922\, Austria
CATEGORIES:Empfehlung
ATTACH;FMTTYPE=image/jpeg:https://www.emcaustria.at/wp-content/uploads/2026/04/image007.jpg
END:VEVENT
BEGIN:VEVENT
DTSTART;TZID=Europe/Vienna:20270302T090000
DTEND;TZID=Europe/Vienna:20270307T180000
DTSTAMP:20260422T173735
CREATED:20260330T173310Z
LAST-MODIFIED:20260330T173310Z
UID:10001009-1803978000-1804442400@www.emcaustria.at
SUMMARY:World Sustainable Energy Days 2026 & 2027
DESCRIPTION:
URL:https://www.emcaustria.at/event/world-sustainable-energy-days-2026-2027/
LOCATION:Messe Wels GmbH\, Messeplatz 1 \, Wels\, Oberösterreich\, 4600
END:VEVENT
END:VCALENDAR